BEGIN:VCALENDAR
VERSION:2.0
PRODID: -//Q4 Inc.//EN
METHOD:PUBLISH
BEGIN:VTIMEZONE
TZID:America/New_York
X-LIC-LOCATION:America/New_York
BEGIN:DAYLIGHT
TZOFFSETFROM:-0500
TZOFFSETTO:-0400
TZNAME:EDT
DTSTART:19700308T020000
RRULE:FREQ=YEARLY;BYMONTH=3;BYDAY=2SU
END:DAYLIGHT
BEGIN:STANDARD
TZOFFSETFROM:-0400
TZOFFSETTO:-0500
TZNAME:EST
DTSTART:19701101T020000
RRULE:FREQ=YEARLY;BYMONTH=11;BYDAY=1SU
END:STANDARD
END:VTIMEZONE
BEGIN:VEVENT
ORGANIZER:MAILTO:no-reply@q4inc.com
DTSTART;TZID="America/New_York":20250428T113000
DTEND;TZID="America/New_York":20250428T123000
LOCATION:German American Operations Center, 1311 W. 12th Avenue, Jasper, IN
UID:75f44b1b-3e9d-4804-977f-989fd346a41c
DTSTAMP:20260423T114749
SUMMARY:2025 Annual Shareholders' Meeting
DESCRIPTION: View More Information: https://ir.germanamerican.com/events-and-presentations/events/event-details/2025/2025-Annual-Shareholders-Meeting/default.aspx
URL;VALUE=URI:https://ir.germanamerican.com/events-and-presentations/events/event-details/2025/2025-Annual-Shareholders-Meeting/default.aspx
PRIORITY:5
CLASS:PUBLIC
END:VEVENT
END:VCALENDAR
